BEGIN:VCALENDAR
VERSION:2.0
PRODID:-//Wallkill River Center for the Arts - ECPv6.15.20//NONSGML v1.0//EN
CALSCALE:GREGORIAN
METHOD:PUBLISH
X-WR-CALNAME:Wallkill River Center for the Arts
X-ORIGINAL-URL:https://wallkill.art
X-WR-CALDESC:Events for Wallkill River Center for the Arts
REFRESH-INTERVAL;VALUE=DURATION:PT1H
X-Robots-Tag:noindex
X-PUBLISHED-TTL:PT1H
BEGIN:VTIMEZONE
TZID:America/New_York
BEGIN:DAYLIGHT
TZOFFSETFROM:-0500
TZOFFSETTO:-0400
TZNAME:EDT
DTSTART:20230312T070000
END:DAYLIGHT
BEGIN:STANDARD
TZOFFSETFROM:-0400
TZOFFSETTO:-0500
TZNAME:EST
DTSTART:20231105T060000
END:STANDARD
BEGIN:DAYLIGHT
TZOFFSETFROM:-0500
TZOFFSETTO:-0400
TZNAME:EDT
DTSTART:20240310T070000
END:DAYLIGHT
BEGIN:STANDARD
TZOFFSETFROM:-0400
TZOFFSETTO:-0500
TZNAME:EST
DTSTART:20241103T060000
END:STANDARD
BEGIN:DAYLIGHT
TZOFFSETFROM:-0500
TZOFFSETTO:-0400
TZNAME:EDT
DTSTART:20250309T070000
END:DAYLIGHT
BEGIN:STANDARD
TZOFFSETFROM:-0400
TZOFFSETTO:-0500
TZNAME:EST
DTSTART:20251102T060000
END:STANDARD
END:VTIMEZONE
BEGIN:VEVENT
DTSTART;TZID=America/New_York:20240702T090000
DTEND;TZID=America/New_York:20240702T120000
DTSTAMP:20260420T184452
CREATED:20240530T152326Z
LAST-MODIFIED:20240530T152326Z
UID:10002770-1719910800-1719921600@wallkill.art
SUMMARY:07/2024 Plein Air Painting with Nancy Reed Jones
DESCRIPTION:July 2\, 9\, 16\, 23\, 30th \n9am – 12pm \n$200\, $175 Members \nLocation: \nTwin Ponds Greenhouse \n  \nStudents will learn all the fundamentals of how to create beautiful paintings outdoors. Using a limited palette\, students will learn how to simplify the vast landscape and capture the important aspects of a scene to create a successful plein air painting. All mediums welcome. instructor specializes in acrylic. \nStudents will bring their own supplies. You are advised to wear sun and bug protection for outdoor classes. Make sure you drink water and seek shade on hot days. \n  \nNancy Reed Jones is an award winning artist ( Champion of the Arts award from the Orange County Arts Council) as well as several other awards. She studied oil painting at the Huntington Arts Council on Long Island. Nancy had her own mural business for many years and has painted murals in one of the Vanderbilt homes on Long Island. Nancy painted murals for the cancer patients in hospitals on Long Island where they were used for guided imagery to take away the patients pain.\nShe came to live in the Hudson Valley in 2004 and joined the Wallkill River School of Art where she now teaches acrylic workshops and plein air painting. She describes her painting style as Romantic Impressionism. \n  \nREFUND AND CANCEL
URL:https://wallkill.art/event/07-2024-plein-air-painting-with-nancy-reed-jones/
LOCATION:Twin Ponds Greenhouse\, 2865 Albany Post Rd\, Montgomery\, NY\, 12549\, United States
CATEGORIES:Classes for Adults
ATTACH;FMTTYPE=image/png:https://wallkill.art/wp-content/uploads/2024/04/NRJ-Summer-Plein-Air-SQ.png
ORGANIZER;CN="Nancy Reed Jones":MAILTO:nartist57@aol.com
END:VEVENT
END:VCALENDAR