BEGIN:VCALENDAR
VERSION:2.0
PRODID:-//Wallkill River Center for the Arts - ECPv6.15.20//NONSGML v1.0//EN
CALSCALE:GREGORIAN
METHOD:PUBLISH
X-ORIGINAL-URL:https://wallkill.art
X-WR-CALDESC:Events for Wallkill River Center for the Arts
REFRESH-INTERVAL;VALUE=DURATION:PT1H
X-Robots-Tag:noindex
X-PUBLISHED-TTL:PT1H
BEGIN:VTIMEZONE
TZID:America/New_York
BEGIN:DAYLIGHT
TZOFFSETFROM:-0500
TZOFFSETTO:-0400
TZNAME:EDT
DTSTART:20230312T070000
END:DAYLIGHT
BEGIN:STANDARD
TZOFFSETFROM:-0400
TZOFFSETTO:-0500
TZNAME:EST
DTSTART:20231105T060000
END:STANDARD
BEGIN:DAYLIGHT
TZOFFSETFROM:-0500
TZOFFSETTO:-0400
TZNAME:EDT
DTSTART:20240310T070000
END:DAYLIGHT
BEGIN:STANDARD
TZOFFSETFROM:-0400
TZOFFSETTO:-0500
TZNAME:EST
DTSTART:20241103T060000
END:STANDARD
BEGIN:DAYLIGHT
TZOFFSETFROM:-0500
TZOFFSETTO:-0400
TZNAME:EDT
DTSTART:20250309T070000
END:DAYLIGHT
BEGIN:STANDARD
TZOFFSETFROM:-0400
TZOFFSETTO:-0500
TZNAME:EST
DTSTART:20251102T060000
END:STANDARD
END:VTIMEZONE
BEGIN:VEVENT
DTSTART;TZID=America/New_York:20240528T100000
DTEND;TZID=America/New_York:20240528T130000
DTSTAMP:20260421T155044
CREATED:20240428T165230Z
LAST-MODIFIED:20240428T165313Z
UID:10002710-1716890400-1716901200@wallkill.art
SUMMARY:5/28/24 Plum Point Plein Air with Laura Martinez-Bianco
DESCRIPTION:Tuesday May 28th (Rain date May 29th) \n10am – 1pm \nat Kowawese Unique Area at Plum Point \n$50 per person\, $45 for members \nJoin me for a day of plein air painting\, all levels and abilities are invited. Artists are encouraged to work in any medium they are conformable with. This class is not specifically about medium but rather about the concepts and techniques that are universal to Plein Air painting. \nBring your easel\, your painting supplies and a painting surface. Helpful to have a sketchbook\, paper and pencil. This will be a one day event so consider the size you will be working on. \nEach session will be 3 hours with a demo\, individual instruction and critique included. Please bring a snack\, water and a hat. \n \nI am drawn to landscapes\, capturing and preserving the views that have been seen over the years by so many. On location I work in pastels. I focus on that specific time of day. The time of day changes the light\, the color\, the atmosphere: it changes everything. Pastels afford me the use of pure pigment. The mark each pastel makes directly from my hand to the surface is exciting. In my studio I create with encaustic\, based on my Plein Air experiences. Working with molten wax and fire has energy and spontaneity. Whether in the studio or on site each painting is a challenge to record a moment in time. \nREFUND AND CANCEL
URL:https://wallkill.art/event/5-28-24-plum-point-plein-air-with-laura-martinez-bianco/
LOCATION:Kowawese Unique Area at Plum Point\, Plum Point Lane\, New Windsor\, NY\, 12553\, United States
CATEGORIES:Classes for Adults
ATTACH;FMTTYPE=image/jpeg:https://wallkill.art/wp-content/uploads/2023/04/Laura-Martinez-Bianco-Plein-Air-1.jpeg
ORGANIZER;CN="Laura Martinez-Bianco":MAILTO:lmbianco.art@gmail.com
END:VEVENT
END:VCALENDAR