BEGIN:VCALENDAR
VERSION:2.0
PRODID:-//Wallkill River Center for the Arts - ECPv6.15.20//NONSGML v1.0//EN
CALSCALE:GREGORIAN
METHOD:PUBLISH
X-ORIGINAL-URL:https://wallkill.art
X-WR-CALDESC:Events for Wallkill River Center for the Arts
REFRESH-INTERVAL;VALUE=DURATION:PT1H
X-Robots-Tag:noindex
X-PUBLISHED-TTL:PT1H
BEGIN:VTIMEZONE
TZID:America/New_York
BEGIN:DAYLIGHT
TZOFFSETFROM:-0500
TZOFFSETTO:-0400
TZNAME:EDT
DTSTART:20230312T070000
END:DAYLIGHT
BEGIN:STANDARD
TZOFFSETFROM:-0400
TZOFFSETTO:-0500
TZNAME:EST
DTSTART:20231105T060000
END:STANDARD
BEGIN:DAYLIGHT
TZOFFSETFROM:-0500
TZOFFSETTO:-0400
TZNAME:EDT
DTSTART:20240310T070000
END:DAYLIGHT
BEGIN:STANDARD
TZOFFSETFROM:-0400
TZOFFSETTO:-0500
TZNAME:EST
DTSTART:20241103T060000
END:STANDARD
BEGIN:DAYLIGHT
TZOFFSETFROM:-0500
TZOFFSETTO:-0400
TZNAME:EDT
DTSTART:20250309T070000
END:DAYLIGHT
BEGIN:STANDARD
TZOFFSETFROM:-0400
TZOFFSETTO:-0500
TZNAME:EST
DTSTART:20251102T060000
END:STANDARD
END:VTIMEZONE
BEGIN:VEVENT
DTSTART;TZID=America/New_York:20240601T100000
DTEND;TZID=America/New_York:20240601T120000
DTSTAMP:20260420T053546
CREATED:20240212T170710Z
LAST-MODIFIED:20240212T171121Z
UID:10002651-1717236000-1717243200@wallkill.art
SUMMARY:06/2024 Painting Water in Oil with Mike Jaroszko
DESCRIPTION:Sorry\, but you do not have permission to view this content.
URL:https://wallkill.art/event/06-2024-painting-water-in-oil-with-mike-jaroszko/
LOCATION:Wallkill River Center for the Arts\, 232 Ward Street\, Montgomery\, NY\, 12549\, United States
CATEGORIES:Classes for Adults
ATTACH;FMTTYPE=image/jpeg:https://wallkill.art/wp-content/uploads/2021/03/Jarozsko-Class-SQ.jpg
ORGANIZER;CN="Mike Jaroszko":MAILTO:mjaroszko@hotmail.com
END:VEVENT
BEGIN:VEVENT
DTSTART;TZID=America/New_York:20240504T100000
DTEND;TZID=America/New_York:20240504T120000
DTSTAMP:20260420T053546
CREATED:20240211T193928Z
LAST-MODIFIED:20240212T170826Z
UID:10002650-1714816800-1714824000@wallkill.art
SUMMARY:05/2024 Clouds in Oil with Mike Jaroszko
DESCRIPTION:Sorry\, but you do not have permission to view this content.
URL:https://wallkill.art/event/05-2024-clouds-in-oil-with-mike-jaroszko/
LOCATION:Wallkill River Center for the Arts\, 232 Ward Street\, Montgomery\, NY\, 12549\, United States
CATEGORIES:Classes for Adults
ATTACH;FMTTYPE=image/jpeg:https://wallkill.art/wp-content/uploads/2019/05/Jaroszko-Trees-by-the-Rocky-Edge-1-scaled.jpg
ORGANIZER;CN="Mike Jaroszko":MAILTO:mjaroszko@hotmail.com
END:VEVENT
END:VCALENDAR