BEGIN:VCALENDAR
VERSION:2.0
PRODID:-//Wallkill River Center for the Arts - ECPv6.15.20//NONSGML v1.0//EN
CALSCALE:GREGORIAN
METHOD:PUBLISH
X-WR-CALNAME:Wallkill River Center for the Arts
X-ORIGINAL-URL:https://wallkill.art
X-WR-CALDESC:Events for Wallkill River Center for the Arts
REFRESH-INTERVAL;VALUE=DURATION:PT1H
X-Robots-Tag:noindex
X-PUBLISHED-TTL:PT1H
BEGIN:VTIMEZONE
TZID:America/New_York
BEGIN:DAYLIGHT
TZOFFSETFROM:-0500
TZOFFSETTO:-0400
TZNAME:EDT
DTSTART:20230312T070000
END:DAYLIGHT
BEGIN:STANDARD
TZOFFSETFROM:-0400
TZOFFSETTO:-0500
TZNAME:EST
DTSTART:20231105T060000
END:STANDARD
BEGIN:DAYLIGHT
TZOFFSETFROM:-0500
TZOFFSETTO:-0400
TZNAME:EDT
DTSTART:20240310T070000
END:DAYLIGHT
BEGIN:STANDARD
TZOFFSETFROM:-0400
TZOFFSETTO:-0500
TZNAME:EST
DTSTART:20241103T060000
END:STANDARD
BEGIN:DAYLIGHT
TZOFFSETFROM:-0500
TZOFFSETTO:-0400
TZNAME:EDT
DTSTART:20250309T070000
END:DAYLIGHT
BEGIN:STANDARD
TZOFFSETFROM:-0400
TZOFFSETTO:-0500
TZNAME:EST
DTSTART:20251102T060000
END:STANDARD
END:VTIMEZONE
BEGIN:VEVENT
DTSTART;TZID=America/New_York:20240729T130000
DTEND;TZID=America/New_York:20240729T150000
DTSTAMP:20260421T014213
CREATED:20240526T192628Z
LAST-MODIFIED:20240713T155331Z
UID:10002763-1722258000-1722265200@wallkill.art
SUMMARY:July 29th - Aug 2nd Teen's Comics Workshop with Joe Ryan
DESCRIPTION:Sorry\, but you do not have permission to view this content.
URL:https://wallkill.art/event/july-29th-aug-2nd-teens-comics-workshop-with-joe-ryan/
LOCATION:Wallkill River Center for the Arts\, 232 Ward Street\, Montgomery\, NY\, 12549\, United States
CATEGORIES:Classes for Children & Teens
ATTACH;FMTTYPE=image/png:https://wallkill.art/wp-content/uploads/2024/05/Comics-Summer-Workshop-Ryan-SQ.png
ORGANIZER;CN="Joe Ryan":MAILTO:josephryan@kubertschool.edu
END:VEVENT
BEGIN:VEVENT
DTSTART;TZID=America/New_York:20240722T130000
DTEND;TZID=America/New_York:20240722T150000
DTSTAMP:20260421T014213
CREATED:20240526T184207Z
LAST-MODIFIED:20240713T155343Z
UID:10002765-1721653200-1721660400@wallkill.art
SUMMARY:July 22-26th Teen's Writing and Characters Workshop with Joe Ryan
DESCRIPTION:Sorry\, but you do not have permission to view this content.
URL:https://wallkill.art/event/july-22-26th-teens-writing-and-characters-workshop-with-joe-ryan/
LOCATION:Wallkill River Center for the Arts\, 232 Ward Street\, Montgomery\, NY\, 12549\, United States
CATEGORIES:Classes for Children & Teens
ATTACH;FMTTYPE=image/png:https://wallkill.art/wp-content/uploads/2024/05/Ryan-Character-Class-SQ.png
ORGANIZER;CN="Joe Ryan":MAILTO:josephryan@kubertschool.edu
END:VEVENT
BEGIN:VEVENT
DTSTART;TZID=America/New_York:20240722T100000
DTEND;TZID=America/New_York:20240722T120000
DTSTAMP:20260421T014213
CREATED:20240526T184223Z
LAST-MODIFIED:20240713T154832Z
UID:10002764-1721642400-1721649600@wallkill.art
SUMMARY:July 22-26th Kid's Writing and Characters Workshop with Joe Ryan
DESCRIPTION:Sorry\, but you do not have permission to view this content.
URL:https://wallkill.art/event/july-22-26th-kids-writing-and-characters-workshop-with-joe-ryan/
LOCATION:Wallkill River Center for the Arts\, 232 Ward Street\, Montgomery\, NY\, 12549\, United States
CATEGORIES:Classes for Children & Teens
ATTACH;FMTTYPE=image/png:https://wallkill.art/wp-content/uploads/2024/05/Ryan-Character-Class-SQ.png
ORGANIZER;CN="Joe Ryan":MAILTO:josephryan@kubertschool.edu
END:VEVENT
END:VCALENDAR