BEGIN:VCALENDAR
VERSION:2.0
PRODID:-//Wallkill River Center for the Arts - ECPv6.15.20//NONSGML v1.0//EN
CALSCALE:GREGORIAN
METHOD:PUBLISH
X-WR-CALNAME:Wallkill River Center for the Arts
X-ORIGINAL-URL:https://wallkill.art
X-WR-CALDESC:Events for Wallkill River Center for the Arts
REFRESH-INTERVAL;VALUE=DURATION:PT1H
X-Robots-Tag:noindex
X-PUBLISHED-TTL:PT1H
BEGIN:VTIMEZONE
TZID:America/New_York
BEGIN:DAYLIGHT
TZOFFSETFROM:-0500
TZOFFSETTO:-0400
TZNAME:EDT
DTSTART:20230312T070000
END:DAYLIGHT
BEGIN:STANDARD
TZOFFSETFROM:-0400
TZOFFSETTO:-0500
TZNAME:EST
DTSTART:20231105T060000
END:STANDARD
BEGIN:DAYLIGHT
TZOFFSETFROM:-0500
TZOFFSETTO:-0400
TZNAME:EDT
DTSTART:20240310T070000
END:DAYLIGHT
BEGIN:STANDARD
TZOFFSETFROM:-0400
TZOFFSETTO:-0500
TZNAME:EST
DTSTART:20241103T060000
END:STANDARD
BEGIN:DAYLIGHT
TZOFFSETFROM:-0500
TZOFFSETTO:-0400
TZNAME:EDT
DTSTART:20250309T070000
END:DAYLIGHT
BEGIN:STANDARD
TZOFFSETFROM:-0400
TZOFFSETTO:-0500
TZNAME:EST
DTSTART:20251102T060000
END:STANDARD
BEGIN:DAYLIGHT
TZOFFSETFROM:-0500
TZOFFSETTO:-0400
TZNAME:EDT
DTSTART:20260308T070000
END:DAYLIGHT
BEGIN:STANDARD
TZOFFSETFROM:-0400
TZOFFSETTO:-0500
TZNAME:EST
DTSTART:20261101T060000
END:STANDARD
END:VTIMEZONE
BEGIN:VEVENT
DTSTART;VALUE=DATE:20241019
DTEND;VALUE=DATE:20250102
DTSTAMP:20260419T111331
CREATED:20241004T222720Z
LAST-MODIFIED:20241004T223500Z
UID:10002884-1729296000-1735775999@wallkill.art
SUMMARY:9th Annual Hudson Valley Plein Air Festival Exhibit
DESCRIPTION:Enjoy an exhibit of works from the 9th Annual Hudson Valley Plein Air Festival.  All works were painted on location within the map boundaries between October 12th and October 18th. \nWork on view October 18\, 2024 – December 31\, 2024 \n 
URL:https://wallkill.art/event/hudson-valley-plein-air-festival-exhibit/
LOCATION:Garnet Health Medical Center\, 255 Main St.\, Goshen\, NY\, 10940
CATEGORIES:Gallery Events,Gallery Exhibits,Plein Air,Special Events
ATTACH;FMTTYPE=image/jpeg:https://wallkill.art/wp-content/uploads/2022/08/2022-HVPAF-Exhibit-1000x1000-1.jpg
ORGANIZER;CN="Wallkill River Center for the Arts":MAILTO:info@wallkill.art
END:VEVENT
BEGIN:VEVENT
DTSTART;TZID=America/New_York:20250111T130000
DTEND;TZID=America/New_York:20250111T150000
DTSTAMP:20260419T111331
CREATED:20241115T184454Z
LAST-MODIFIED:20241115T184454Z
UID:10002899-1736600400-1736607600@wallkill.art
SUMMARY:01/11/25 Carl Grauer Portrait Demonstration
DESCRIPTION:Prior to the reception the same day\, Carl Grauer will be doing a portrait demonstration. This is a two hour seated portrait suitable for teens and up. \nA digital copy will be given to the sitter\, as well as the option to purchase the piece at a discounted price of $300. \n  \nThe portrait sitter will be decided by raffle. Tickets are now available for $5 each. They are available to purchase online and in person. \nThe winner will be pulled December 22nd\, to give the option of it being a gift.
URL:https://wallkill.art/event/01-11-25-demonstration/
LOCATION:Wallkill River Center for the Arts\, 232 Ward Street\, Montgomery\, NY\, 12549\, United States
CATEGORIES:Gallery Events,Gallery Reception,Special Events
ATTACH;FMTTYPE=image/jpeg:https://wallkill.art/wp-content/uploads/2024/11/Grauer_ArtFair.jpeg
ORGANIZER;CN="Wallkill River Center for the Arts":MAILTO:info@wallkill.art
END:VEVENT
BEGIN:VEVENT
DTSTART;TZID=America/New_York:20250125T150000
DTEND;TZID=America/New_York:20250125T170000
DTSTAMP:20260419T111331
CREATED:20250104T182732Z
LAST-MODIFIED:20250107T151049Z
UID:10003195-1737817200-1737824400@wallkill.art
SUMMARY:2025 Annual Members Meeting
DESCRIPTION:Please join us virtually\, via Zoom\, for our Annual Members Meeting on Saturday\, January 25\, 2025 at 3:00 pm   \nMembers:   If you were a member in 2024 or joined and paid your dues for 2025 by December 31\, 2024\, please return your BALLOT by email\, mail or in person before the meeting date.  If there is ANY CHANCE you may not be able to attend the meeting on Zoom\, please sign and return your PROXY. \nWhat is the Proxy and why is it important?  A proxy is a substitute for a member being present online at the meeting.  Our by-laws require us to hold an annual members meeting and we must have enough of our members\, or their proxies\, present to conduct the meeting\, otherwise\, we will have to reschedule and try to get enough people the next time.  On the proxy form\, you can assign your vote to the board of directors or you can name an individual to vote on your behalf if you are sure they will be present online at the meeting.  Help us by returning your proxy\, but still attend the meeting if you can.  At the meeting we present detailed information to give you a window into how the organization is functioning financially and providing services to the community.  We want to see you! \n  \nAnnual Members Meeting Notice \nBallot \nProxy \nAnnual Members Meeting Packet \nAgenda of 1-25-25 \nAnnual Report \nMinutes of 1-27-24 \nGallery Calendar \n  \nThis will be updated with links when they become available.
URL:https://wallkill.art/event/2025-annual-members-meeting/
LOCATION:Wallkill River Center for the Arts\, 232 Ward Street\, Montgomery\, NY\, 12549\, United States
CATEGORIES:Artist Opportunities,Classes for Adults,Classes for Children & Teens,Free Events,Gallery Events,Special Events
ATTACH;FMTTYPE=image/jpeg:https://wallkill.art/wp-content/uploads/2020/07/WRCA-logo-2022-sq-scaled.jpg
ORGANIZER;CN="Wallkill River Center for the Arts":MAILTO:info@wallkill.art
END:VEVENT
END:VCALENDAR