BEGIN:VCALENDAR
VERSION:2.0
PRODID:-//Wallkill River Center for the Arts - ECPv6.15.20//NONSGML v1.0//EN
CALSCALE:GREGORIAN
METHOD:PUBLISH
X-WR-CALNAME:Wallkill River Center for the Arts
X-ORIGINAL-URL:https://wallkill.art
X-WR-CALDESC:Events for Wallkill River Center for the Arts
REFRESH-INTERVAL;VALUE=DURATION:PT1H
X-Robots-Tag:noindex
X-PUBLISHED-TTL:PT1H
BEGIN:VTIMEZONE
TZID:America/New_York
BEGIN:DAYLIGHT
TZOFFSETFROM:-0500
TZOFFSETTO:-0400
TZNAME:EDT
DTSTART:20230312T070000
END:DAYLIGHT
BEGIN:STANDARD
TZOFFSETFROM:-0400
TZOFFSETTO:-0500
TZNAME:EST
DTSTART:20231105T060000
END:STANDARD
BEGIN:DAYLIGHT
TZOFFSETFROM:-0500
TZOFFSETTO:-0400
TZNAME:EDT
DTSTART:20240310T070000
END:DAYLIGHT
BEGIN:STANDARD
TZOFFSETFROM:-0400
TZOFFSETTO:-0500
TZNAME:EST
DTSTART:20241103T060000
END:STANDARD
BEGIN:DAYLIGHT
TZOFFSETFROM:-0500
TZOFFSETTO:-0400
TZNAME:EDT
DTSTART:20250309T070000
END:DAYLIGHT
BEGIN:STANDARD
TZOFFSETFROM:-0400
TZOFFSETTO:-0500
TZNAME:EST
DTSTART:20251102T060000
END:STANDARD
END:VTIMEZONE
BEGIN:VEVENT
DTSTART;TZID=America/New_York:20240707T150000
DTEND;TZID=America/New_York:20240707T170000
DTSTAMP:20260419T205123
CREATED:20240510T171912Z
LAST-MODIFIED:20240719T170313Z
UID:10002719-1720364400-1720371600@wallkill.art
SUMMARY:07/07/24 Trio Andaluz:  Flamenco Music & Dance
DESCRIPTION:Flamenco Music and Dance  \nSunday July 7\,  2024 – 3pm  \nBlooming Grove UCC\,  2 Old Dominion Road\, Blooming Grove\, NY  10914 \nAccessibility:  Accessible entrance on the west side of the building.  Bathrooms in the basement are accessible via wheelchair lift. \nTRIO ANDALUZ – FLAMENCO is comprised of the 3 accomplished artists presented today\, all trained in the rigorous study and practice of Flamenco Music and Dance.  These dynamic musicians and dancer have a rich history of working together in different ensembles and dance companies\,  celebrating the ancient art forms of the Iberian Peninsula.  There will be a Q & A after the show. \n  \nDaniel Pimentel began playing guitar at the age of 12 and later took lessons in Mexico and in Spain with prominent teachers such as Manolo Sanlúcar\, José Antonio Rodríguez\, Gerardo Núñez and Antonio Rey among others.  Throughout his career he has trained in musical styles such as jazz\, classical and Mexican music as well as the classic Flamenco style. \nHis work includes a Tribute to Federico García Lorca\, El Cristo Andaluz\, Bodas de Sangre and Gypsies in pursuit. Daniel has collaborated with Flamenco artists such as Lucero Hernández\, Natalia Loza\, Fernando Martínez\, Las Cabales de Guadalajara\, Leo and Juan Treviño\, Erika Suarez as well as the Flamenco Companies of María Elena Anaya\, El Club España\, Marién Luévano\, Natalia Loza and Caña y Candela among others. He also worked with artists in other musical genres such as Joe Lovano\, Judi Silvano\, Juan Gabriel\, María José and Paco de María. \nHe has performed all over Mexico\, Madrid and Toledo\, Spain\, Quito\, Ecuador as well as New York and Chicago.  Daniel has recorded and released 7 albums of music\, including “A mi Aire” (2010) and “Sentimiento Flamenco” (2017). \n  \nNatalia Loza dancer\, born in Mexico City\, graduated from the National Dance School\, completing her training with masters such as María Elena Anaya\, Gabriel Blanco\, Silvia Martín\, Paloma Macías\, Olinka Trueba\, among others. She was invited to be part of the teaching staff\, teaching Stylized Dance and Stage Practices to the students of the Spanish Dance Degree. \nDuring her training she studied Spanish dance and Flamenco with teachers including Guadalupe Gómez (first dancer at the Madrid Conservatory)\, Manuel Reyes\, Mariano Bernal\, Ángeles Gabaldón\, Daniel Doña and Ana Lopéz\, among others.  In 2012 she took bata de cola and shawl classes with teacher Milagros Menjibar at the famed Cristina Heeren Foundation in Seville\, Spain. \nNatalia is one of the most outstanding dancers with mastery of the castanet in both Mexico and the American continent and she has performed in the major theaters in Mexico such as Bellas Artes\, Auditorio Nacional in Mexico City\, Guadalajara\, Cancun\, Queretaro\, Puebla and Los Cabos. \n  \nAlfonso Cid\, Flamenco singer and flute player. His mother and grandfather were his earliest influences. He attended classes at the prestigious Torres-Macarena Flamenco social club in Seville starting in 1987.  \nAlfonso also studied solfege singing and flute at the Seville Music Conservatory and was awarded two scholarships to study at the Cristina Heeren Foundation for Flamenco Art in Seville\, Spain.  \nHe has performed in venues such as Carnegie Hall\, Lincoln Center Out of Doors\, Town Hall\, London’s Royal Albert Hall\, Sala Covarrubias in Mexico City. He has produced albums with “Gazpacho Andalú”\, Latin Rock band “Dientes de Caramelo” and the Jazz/Flamenco band “New Bojaira”. \n  \nToday’s concert is Free\, with Donations gratefully accepted to support the continued work of the WRCA in many communities within Orange County.  www.Wallkill.art \nJoin us for free Art Exhibits\, Adult and Childrens Art Classes and Please consider becoming a Member and/or Sponsor of our many programs. And please leave us your Email address for news of upcoming programs. \n  \nThis concert is generously sponsored by  \n \n \n \n \n 
URL:https://wallkill.art/event/07-07-24-trio-andaluz-flamenco-music-dance/
LOCATION:Blooming Grove UCC\, 8 Old Dominion Road\, Blooming Grove\, NY\, 10914\, United States
CATEGORIES:Free Events,Music
ATTACH;FMTTYPE=image/png:https://wallkill.art/wp-content/uploads/2024/05/Trio-Andaluz-Stitched-Picture.png
ORGANIZER;CN="Wallkill River Center for the Arts":MAILTO:info@wallkill.art
END:VEVENT
END:VCALENDAR