BEGIN:VCALENDAR
VERSION:2.0
PRODID:-//Wallkill River Center for the Arts - ECPv6.15.20//NONSGML v1.0//EN
CALSCALE:GREGORIAN
METHOD:PUBLISH
X-ORIGINAL-URL:https://wallkill.art
X-WR-CALDESC:Events for Wallkill River Center for the Arts
REFRESH-INTERVAL;VALUE=DURATION:PT1H
X-Robots-Tag:noindex
X-PUBLISHED-TTL:PT1H
BEGIN:VTIMEZONE
TZID:America/New_York
BEGIN:DAYLIGHT
TZOFFSETFROM:-0500
TZOFFSETTO:-0400
TZNAME:EDT
DTSTART:20230312T070000
END:DAYLIGHT
BEGIN:STANDARD
TZOFFSETFROM:-0400
TZOFFSETTO:-0500
TZNAME:EST
DTSTART:20231105T060000
END:STANDARD
BEGIN:DAYLIGHT
TZOFFSETFROM:-0500
TZOFFSETTO:-0400
TZNAME:EDT
DTSTART:20240310T070000
END:DAYLIGHT
BEGIN:STANDARD
TZOFFSETFROM:-0400
TZOFFSETTO:-0500
TZNAME:EST
DTSTART:20241103T060000
END:STANDARD
BEGIN:DAYLIGHT
TZOFFSETFROM:-0500
TZOFFSETTO:-0400
TZNAME:EDT
DTSTART:20250309T070000
END:DAYLIGHT
BEGIN:STANDARD
TZOFFSETFROM:-0400
TZOFFSETTO:-0500
TZNAME:EST
DTSTART:20251102T060000
END:STANDARD
END:VTIMEZONE
BEGIN:VEVENT
DTSTART;VALUE=DATE:20240301
DTEND;VALUE=DATE:20240429
DTSTAMP:20260422T213432
CREATED:20240206T002344Z
LAST-MODIFIED:20240301T180146Z
UID:10002625-1709251200-1714348799@wallkill.art
SUMMARY:Pattern
DESCRIPTION:Group exhibit of works exploring the use of pattern juried by artist Emily Nomer. \nThe exhibit is on view March 1\, 2024 – April 28\, 2024 \nThe gallery is open to the public Fridays\, Saturdays\, and Sundays from 12:00-5:00 pm or by appointment. \nArtists Reception Saturday\, March 9\, 2024 3:00-5:00 pm.  Receptions are always free and open to the public. \n  \nBest of Show \n“Ghost of the Myrtle Avenue El” Mary Mugele Sealfon Serigraph Print 15 x 30 Inches $700 \nHonorable Mentions \n“Quilted” Laura Martinez-Bianco Encaustic 20 x 20 Inches $1\,500 \n“Island Magic” Richard Arnold Tempra & Ink on Paper 8.5 x 11.5 Inches $95 \n  \nFeaturing artworks by: \nRick Weber\nMaureen Hart\nDebra La-Lomia\nJudith Campanaro\nLaura Martinez-Bianco\nRichard Arnold\nSpider Graham\nSusan Wilson\nMary Ann Glass\nXaN\nDonna Castelluccio\nFrank Shuback\nPat MacDonald\nGerald Kleiner\nMary Mugele Sealfon\nVictor Messick
URL:https://wallkill.art/event/pattern/
LOCATION:Wallkill River Center for the Arts\, 232 Ward Street\, Montgomery\, NY\, 12549\, United States
CATEGORIES:Free Events,Gallery Events,Gallery Exhibits,inperson
ATTACH;FMTTYPE=image/jpeg:https://wallkill.art/wp-content/uploads/2024/02/2024-03-Pattern-SQ-UPDATED.jpg
ORGANIZER;CN="Wallkill River Center for the Arts":MAILTO:info@wallkill.art
END:VEVENT
END:VCALENDAR